BEGIN:VCALENDAR
VERSION:2.0
PRODID:-//Southampton Amateur Rowing Club - ECPv4.3.4.2//NONSGML v1.0//EN
CALSCALE:GREGORIAN
METHOD:PUBLISH
X-WR-CALNAME:Southampton Amateur Rowing Club
X-ORIGINAL-URL:http://southamptonamateurrowingclub.co.uk
X-WR-CALDESC:Events for Southampton Amateur Rowing Club
BEGIN:VEVENT
DTSTART;VALUE=DATE:20180303
DTEND;VALUE=DATE:20180303
DTSTAMP:20260423T015004
CREATED:20180119T130721Z
LAST-MODIFIED:20180119T130721Z
UID:1374-1520035200-1520121599@southamptonamateurrowingclub.co.uk
SUMMARY:Adur HORR Shoreham
DESCRIPTION:
URL:http://southamptonamateurrowingclub.co.uk/event/adur-horr-shoreham/
END:VEVENT
END:VCALENDAR