BEGIN:VCALENDAR
VERSION:2.0
PRODID:-//Southampton Amateur Rowing Club - ECPv4.3.4.2//NONSGML v1.0//EN
CALSCALE:GREGORIAN
METHOD:PUBLISH
X-WR-CALNAME:Southampton Amateur Rowing Club
X-ORIGINAL-URL:http://southamptonamateurrowingclub.co.uk
X-WR-CALDESC:Events for Southampton Amateur Rowing Club
BEGIN:VEVENT
DTSTART;TZID=Europe/London:20170928T190000
DTEND;TZID=Europe/London:20170928T210000
DTSTAMP:20260422T224849
CREATED:20161215T143521Z
LAST-MODIFIED:20161215T143521Z
UID:1080-1506625200-1506632400@southamptonamateurrowingclub.co.uk
SUMMARY:AGM
DESCRIPTION:
URL:http://southamptonamateurrowingclub.co.uk/event/agm/
END:VEVENT
END:VCALENDAR