BEGIN:VCALENDAR
VERSION:2.0
PRODID:-//Southampton Amateur Rowing Club - ECPv4.3.4.2//NONSGML v1.0//EN
CALSCALE:GREGORIAN
METHOD:PUBLISH
X-WR-CALNAME:Southampton Amateur Rowing Club
X-ORIGINAL-URL:http://southamptonamateurrowingclub.co.uk
X-WR-CALDESC:Events for Southampton Amateur Rowing Club
BEGIN:VEVENT
DTSTART;TZID=Europe/London:20170818T190000
DTEND;TZID=Europe/London:20170818T230000
DTSTAMP:20260422T192723
CREATED:20170816T115905Z
LAST-MODIFIED:20170816T115905Z
UID:1315-1503082800-1503097200@southamptonamateurrowingclub.co.uk
SUMMARY:Bingo night
DESCRIPTION:Plus Pimms and Sangria
URL:http://southamptonamateurrowingclub.co.uk/event/bingo-night/
END:VEVENT
END:VCALENDAR