BEGIN:VCALENDAR
VERSION:2.0
PRODID:-//Southampton Amateur Rowing Club - ECPv4.3.4.2//NONSGML v1.0//EN
CALSCALE:GREGORIAN
METHOD:PUBLISH
X-WR-CALNAME:Southampton Amateur Rowing Club
X-ORIGINAL-URL:http://southamptonamateurrowingclub.co.uk
X-WR-CALDESC:Events for Southampton Amateur Rowing Club
BEGIN:VEVENT
DTSTART;VALUE=DATE:20190817
DTEND;VALUE=DATE:20190817
DTSTAMP:20260425T110628
CREATED:20181220T125345Z
LAST-MODIFIED:20190816T071829Z
UID:1578-1566000000-1566086399@southamptonamateurrowingclub.co.uk
SUMMARY:BTC regatta @ Coalies
DESCRIPTION:
URL:http://southamptonamateurrowingclub.co.uk/event/btc-regatta-3/
END:VEVENT
END:VCALENDAR