BEGIN:VCALENDAR
VERSION:2.0
PRODID:-//Southampton Amateur Rowing Club - ECPv4.3.4.2//NONSGML v1.0//EN
CALSCALE:GREGORIAN
METHOD:PUBLISH
X-WR-CALNAME:Southampton Amateur Rowing Club
X-ORIGINAL-URL:http://southamptonamateurrowingclub.co.uk
X-WR-CALDESC:Events for Southampton Amateur Rowing Club
BEGIN:VEVENT
DTSTART;TZID=Europe/London:20180202T190000
DTEND;TZID=Europe/London:20180202T230000
DTSTAMP:20260423T001003
CREATED:20180119T124925Z
LAST-MODIFIED:20180119T124925Z
UID:1366-1517598000-1517612400@southamptonamateurrowingclub.co.uk
SUMMARY:Curry night
DESCRIPTION:
URL:http://southamptonamateurrowingclub.co.uk/event/curry-night/
END:VEVENT
END:VCALENDAR