BEGIN:VCALENDAR
VERSION:2.0
PRODID:-//Southampton Amateur Rowing Club - ECPv4.3.4.2//NONSGML v1.0//EN
CALSCALE:GREGORIAN
METHOD:PUBLISH
X-WR-CALNAME:Southampton Amateur Rowing Club
X-ORIGINAL-URL:http://southamptonamateurrowingclub.co.uk
X-WR-CALDESC:Events for Southampton Amateur Rowing Club
BEGIN:VEVENT
DTSTART;VALUE=DATE:20190310
DTEND;VALUE=DATE:20190310
DTSTAMP:20260424T094515
CREATED:20181220T124116Z
LAST-MODIFIED:20181220T124116Z
UID:1546-1552176000-1552262399@southamptonamateurrowingclub.co.uk
SUMMARY:Head of the Stour
DESCRIPTION:
URL:http://southamptonamateurrowingclub.co.uk/event/head-of-the-stour/
END:VEVENT
END:VCALENDAR