BEGIN:VCALENDAR
VERSION:2.0
PRODID:-//Southampton Amateur Rowing Club - ECPv4.3.4.2//NONSGML v1.0//EN
CALSCALE:GREGORIAN
METHOD:PUBLISH
X-WR-CALNAME:Southampton Amateur Rowing Club
X-ORIGINAL-URL:http://southamptonamateurrowingclub.co.uk
X-WR-CALDESC:Events for Southampton Amateur Rowing Club
BEGIN:VEVENT
DTSTART;VALUE=DATE:20190622
DTEND;VALUE=DATE:20190622
DTSTAMP:20260424T232346
CREATED:20181220T124838Z
LAST-MODIFIED:20181220T124838Z
UID:1564-1561161600-1561247999@southamptonamateurrowingclub.co.uk
SUMMARY:Newport 4+s regatta
DESCRIPTION:
URL:http://southamptonamateurrowingclub.co.uk/event/newport-4s-regatta/
END:VEVENT
END:VCALENDAR