BEGIN:VCALENDAR
VERSION:2.0
PRODID:-//Southampton Amateur Rowing Club - ECPv4.3.4.2//NONSGML v1.0//EN
CALSCALE:GREGORIAN
METHOD:PUBLISH
X-WR-CALNAME:Southampton Amateur Rowing Club
X-ORIGINAL-URL:http://southamptonamateurrowingclub.co.uk
X-WR-CALDESC:Events for Southampton Amateur Rowing Club
BEGIN:VEVENT
DTSTART;VALUE=DATE:20180630
DTEND;VALUE=DATE:20180630
DTSTAMP:20260423T193711
CREATED:20180220T121303Z
LAST-MODIFIED:20180220T121303Z
UID:1401-1530316800-1530403199@southamptonamateurrowingclub.co.uk
SUMMARY:Poole Regatta
DESCRIPTION:
URL:http://southamptonamateurrowingclub.co.uk/event/poole-regatta-2/
END:VEVENT
END:VCALENDAR