BEGIN:VCALENDAR
VERSION:2.0
PRODID:-//Southampton Amateur Rowing Club - ECPv4.3.4.2//NONSGML v1.0//EN
CALSCALE:GREGORIAN
METHOD:PUBLISH
X-WR-CALNAME:Southampton Amateur Rowing Club
X-ORIGINAL-URL:http://southamptonamateurrowingclub.co.uk
X-WR-CALDESC:Events for Southampton Amateur Rowing Club
BEGIN:VEVENT
DTSTART;VALUE=DATE:20180602
DTEND;VALUE=DATE:20180602
DTSTAMP:20260423T120511
CREATED:20180220T120949Z
LAST-MODIFIED:20180220T120949Z
UID:1391-1527897600-1527983999@southamptonamateurrowingclub.co.uk
SUMMARY:Ryde Regatta
DESCRIPTION:
URL:http://southamptonamateurrowingclub.co.uk/event/ryde-regatta-2/
END:VEVENT
END:VCALENDAR