BEGIN:VCALENDAR
VERSION:2.0
PRODID:-//Southampton Amateur Rowing Club - ECPv4.3.4.2//NONSGML v1.0//EN
CALSCALE:GREGORIAN
METHOD:PUBLISH
X-WR-CALNAME:Southampton Amateur Rowing Club
X-ORIGINAL-URL:http://southamptonamateurrowingclub.co.uk
X-WR-CALDESC:Events for Southampton Amateur Rowing Club
BEGIN:VEVENT
DTSTART;TZID=Europe/London:20210923T193000
DTEND;TZID=Europe/London:20210923T210000
DTSTAMP:20260425T234800
CREATED:20210816T131258Z
LAST-MODIFIED:20210816T131258Z
UID:1974-1632425400-1632430800@southamptonamateurrowingclub.co.uk
SUMMARY:SARC AGM
DESCRIPTION:
URL:http://southamptonamateurrowingclub.co.uk/event/sarc-agm-2/
END:VEVENT
END:VCALENDAR