BEGIN:VCALENDAR
VERSION:2.0
PRODID:-//Southampton Amateur Rowing Club - ECPv4.3.4.2//NONSGML v1.0//EN
CALSCALE:GREGORIAN
METHOD:PUBLISH
X-WR-CALNAME:Southampton Amateur Rowing Club
X-ORIGINAL-URL:http://southamptonamateurrowingclub.co.uk
X-WR-CALDESC:Events for Southampton Amateur Rowing Club
BEGIN:VEVENT
DTSTART;TZID=Europe/London:20190926T190000
DTEND;TZID=Europe/London:20190926T210000
DTSTAMP:20260425T142021
CREATED:20181220T125536Z
LAST-MODIFIED:20181220T125536Z
UID:1582-1569524400-1569531600@southamptonamateurrowingclub.co.uk
SUMMARY:SARC AGM
DESCRIPTION:
URL:http://southamptonamateurrowingclub.co.uk/event/sarc-agm/
END:VEVENT
END:VCALENDAR