BEGIN:VCALENDAR
VERSION:2.0
PRODID:-//Southampton Amateur Rowing Club - ECPv4.3.4.2//NONSGML v1.0//EN
CALSCALE:GREGORIAN
METHOD:PUBLISH
X-WR-CALNAME:Southampton Amateur Rowing Club
X-ORIGINAL-URL:http://southamptonamateurrowingclub.co.uk
X-WR-CALDESC:Events for Southampton Amateur Rowing Club
BEGIN:VEVENT
DTSTART;VALUE=DATE:20211009
DTEND;VALUE=DATE:20211009
DTSTAMP:20260426T012133
CREATED:20210816T131425Z
LAST-MODIFIED:20210816T131425Z
UID:1976-1633737600-1633823999@southamptonamateurrowingclub.co.uk
SUMMARY:SARC Coastal HoRR
DESCRIPTION:
URL:http://southamptonamateurrowingclub.co.uk/event/sarc-coastal-horr/
END:VEVENT
END:VCALENDAR