BEGIN:VCALENDAR
VERSION:2.0
PRODID:-//Southampton Amateur Rowing Club - ECPv4.3.4.2//NONSGML v1.0//EN
CALSCALE:GREGORIAN
METHOD:PUBLISH
X-WR-CALNAME:Southampton Amateur Rowing Club
X-ORIGINAL-URL:http://southamptonamateurrowingclub.co.uk
X-WR-CALDESC:Events for Southampton Amateur Rowing Club
BEGIN:VEVENT
DTSTART;VALUE=DATE:20170514
DTEND;VALUE=DATE:20170514
DTSTAMP:20260421T235834
CREATED:20170228T125234Z
LAST-MODIFIED:20170228T125234Z
UID:1171-1494720000-1494806399@southamptonamateurrowingclub.co.uk
SUMMARY:Shanklin regatta
DESCRIPTION:
URL:http://southamptonamateurrowingclub.co.uk/event/shanklin-regatta/
END:VEVENT
END:VCALENDAR