BEGIN:VCALENDAR
VERSION:2.0
PRODID:-//Southampton Amateur Rowing Club - ECPv4.3.4.2//NONSGML v1.0//EN
CALSCALE:GREGORIAN
METHOD:PUBLISH
X-WR-CALNAME:Southampton Amateur Rowing Club
X-ORIGINAL-URL:http://southamptonamateurrowingclub.co.uk
X-WR-CALDESC:Events for Southampton Amateur Rowing Club
BEGIN:VEVENT
DTSTART;VALUE=DATE:20180908
DTEND;VALUE=DATE:20180908
DTSTAMP:20260424T042332
CREATED:20180220T121704Z
LAST-MODIFIED:20180220T121704Z
UID:1413-1536364800-1536451199@southamptonamateurrowingclub.co.uk
SUMMARY:South Coast Championship
DESCRIPTION:
URL:http://southamptonamateurrowingclub.co.uk/event/south-coast-championship/
END:VEVENT
END:VCALENDAR