BEGIN:VCALENDAR
VERSION:2.0
PRODID:-//Southampton Amateur Rowing Club - ECPv4.3.4.2//NONSGML v1.0//EN
CALSCALE:GREGORIAN
METHOD:PUBLISH
X-WR-CALNAME:Southampton Amateur Rowing Club
X-ORIGINAL-URL:http://southamptonamateurrowingclub.co.uk
X-WR-CALDESC:Events for Southampton Amateur Rowing Club
BEGIN:VEVENT
DTSTART;VALUE=DATE:20190629
DTEND;VALUE=DATE:20190629
DTSTAMP:20260425T023250
CREATED:20181220T125031Z
LAST-MODIFIED:20181220T125031Z
UID:1568-1561766400-1561852799@southamptonamateurrowingclub.co.uk
SUMMARY:Southsea regatta
DESCRIPTION:
URL:http://southamptonamateurrowingclub.co.uk/event/southsea-regatta-3/
END:VEVENT
END:VCALENDAR