BEGIN:VCALENDAR
VERSION:2.0
PRODID:-//Southampton Amateur Rowing Club - ECPv4.3.4.2//NONSGML v1.0//EN
CALSCALE:GREGORIAN
METHOD:PUBLISH
X-WR-CALNAME:Southampton Amateur Rowing Club
X-ORIGINAL-URL:http://southamptonamateurrowingclub.co.uk
X-WR-CALDESC:Events for Southampton Amateur Rowing Club
BEGIN:VEVENT
DTSTART;VALUE=DATE:20170624
DTEND;VALUE=DATE:20170624
DTSTAMP:20260422T071739
CREATED:20161215T142434Z
LAST-MODIFIED:20170228T130159Z
UID:1078-1498262400-1498348799@southamptonamateurrowingclub.co.uk
SUMMARY:Woolston regatta
DESCRIPTION:
URL:http://southamptonamateurrowingclub.co.uk/event/woolston-regatta/
END:VEVENT
END:VCALENDAR